BEGIN:VCALENDAR
PRODID://WordPress//Event-Post-V5.9.2//EN
VERSION:2.0
BEGIN:VEVENT
SUMMARY:Family Visitation for Maurice G. Martin
UID:https://minterfuneralchapels.com/family-visitation-for-maurice-g-martin/
LOCATION:
DTSTAMP:20260422T180000Z
DTSTART:20260422T180000Z
DTEND:20260422T190000Z
DESCRIPTION:Memorial Service: 10:00 A.M., Thursday, April 23, 2026, First Baptist
Church, Tarkio, Missouri.
Open visitation begins 9:00 A.M., Wednesday, April 22, First Baptist
Church, Tarkio, where the family will receive friends from 6:00-7:00 P.M.
Inurnment: English Grove Cemetery, Fairfax.
Memorials: Community Hospital-Fairfax, Fairfax, Missouri or Landon's Legacy
Charitable Foundation, Inc, P.O. Box 2271, Platte City, MO 64079
landonslegacyfoundation.com.
Arrangements: Minter Funeral Chapel, Rock Port.
www.minterfuneralchapels.com
END:VEVENT
END:VCALENDAR